BEGIN:VCALENDAR
VERSION:2.0
PRODID:-//Horror Writers Association Ontario Chapter - ECPv6.15.17//NONSGML v1.0//EN
CALSCALE:GREGORIAN
METHOD:PUBLISH
X-WR-CALNAME:Horror Writers Association Ontario Chapter
X-ORIGINAL-URL:https://horror-writers.ca
X-WR-CALDESC:Events for Horror Writers Association Ontario Chapter
REFRESH-INTERVAL;VALUE=DURATION:PT1H
X-Robots-Tag:noindex
X-PUBLISHED-TTL:PT1H
BEGIN:VTIMEZONE
TZID:America/Toronto
BEGIN:DAYLIGHT
TZOFFSETFROM:-0500
TZOFFSETTO:-0400
TZNAME:EDT
DTSTART:20170312T070000
END:DAYLIGHT
BEGIN:STANDARD
TZOFFSETFROM:-0400
TZOFFSETTO:-0500
TZNAME:EST
DTSTART:20171105T060000
END:STANDARD
BEGIN:DAYLIGHT
TZOFFSETFROM:-0500
TZOFFSETTO:-0400
TZNAME:EDT
DTSTART:20180311T070000
END:DAYLIGHT
BEGIN:STANDARD
TZOFFSETFROM:-0400
TZOFFSETTO:-0500
TZNAME:EST
DTSTART:20181104T060000
END:STANDARD
BEGIN:DAYLIGHT
TZOFFSETFROM:-0500
TZOFFSETTO:-0400
TZNAME:EDT
DTSTART:20190310T070000
END:DAYLIGHT
BEGIN:STANDARD
TZOFFSETFROM:-0400
TZOFFSETTO:-0500
TZNAME:EST
DTSTART:20191103T060000
END:STANDARD
BEGIN:DAYLIGHT
TZOFFSETFROM:-0500
TZOFFSETTO:-0400
TZNAME:EDT
DTSTART:20200308T070000
END:DAYLIGHT
BEGIN:STANDARD
TZOFFSETFROM:-0400
TZOFFSETTO:-0500
TZNAME:EST
DTSTART:20201101T060000
END:STANDARD
BEGIN:DAYLIGHT
TZOFFSETFROM:-0500
TZOFFSETTO:-0400
TZNAME:EDT
DTSTART:20210314T070000
END:DAYLIGHT
BEGIN:STANDARD
TZOFFSETFROM:-0400
TZOFFSETTO:-0500
TZNAME:EST
DTSTART:20211107T060000
END:STANDARD
BEGIN:DAYLIGHT
TZOFFSETFROM:-0500
TZOFFSETTO:-0400
TZNAME:EDT
DTSTART:20220313T070000
END:DAYLIGHT
BEGIN:STANDARD
TZOFFSETFROM:-0400
TZOFFSETTO:-0500
TZNAME:EST
DTSTART:20221106T060000
END:STANDARD
END:VTIMEZONE
BEGIN:VEVENT
DTSTART;TZID=America/Toronto:20211116T190000
DTEND;TZID=America/Toronto:20211116T210000
DTSTAMP:20260419T114822
CREATED:20211104T145547Z
LAST-MODIFIED:20211104T180506Z
UID:177-1637089200-1637096400@horror-writers.ca
SUMMARY:HWA Ontario Chapter Zoom Meeting
DESCRIPTION:If you are an HWA Ontario Chapter member and have not received your invitation\, please email info@horror-writers.ca.
URL:https://horror-writers.ca/event/hwa-ontario-chapter-zoom-meeting/
ORGANIZER;CN="HWA Ontario Chapter":MAILTO:info@horror-writers.ca
END:VEVENT
BEGIN:VEVENT
DTSTART;TZID=America/Toronto:20180830T160000
DTEND;TZID=America/Toronto:20180902T170000
DTSTAMP:20260419T114822
CREATED:20180502T150032Z
LAST-MODIFIED:20180502T150032Z
UID:112-1535644800-1535907600@horror-writers.ca
SUMMARY:Fan Expo 2018
DESCRIPTION:Join the HWA at Toronto’s biggest annual pop culture event. Meet authors! Buy books! Learn more about the Horror Writers Association and writing scary stories.
URL:https://horror-writers.ca/event/fan-expo-2018/
LOCATION:Metro Toronto Convention Centre\, 222 Bremner Blvd.\, Toronto\, Ontario\, M5V 3L9\, Canada
ATTACH;FMTTYPE=image/jpeg:https://horror-writers.ca/wp-content/uploads/2018/05/ST11.jpg
END:VEVENT
END:VCALENDAR